BEGIN:VCALENDAR
VERSION:2.0
PRODID:-//Knokr//Festival//EN
BEGIN:VEVENT
DTSTART;VALUE=DATE:20261003
DTEND;VALUE=DATE:20261004
SUMMARY:Sleepy Hollow Music Festival
LOCATION:Sleepy Hollow, United States
URL:https://www.sleepyhollowmusicfestival.com/
END:VEVENT
END:VCALENDAR