BEGIN:VCALENDAR
VERSION:2.0
PRODID:-//Knokr//Festival//EN
BEGIN:VEVENT
DTSTART;VALUE=DATE:20260915
DTEND;VALUE=DATE:20260920
SUMMARY:Americanafest
LOCATION:Nashville, United States
URL:https://americanamusic.org/americanafest/
END:VEVENT
END:VCALENDAR